BEGIN:VCALENDAR
VERSION:2.0
PRODID:-//Deporte de Polanco - ECPv4.4.2//NONSGML v1.0//EN
CALSCALE:GREGORIAN
METHOD:PUBLISH
X-WR-CALNAME:Deporte de Polanco
X-ORIGINAL-URL:http://www.deportedepolanco.org
X-WR-CALDESC:Events for Deporte de Polanco
BEGIN:VEVENT
DTSTART;VALUE=DATE:20190731
DTEND;VALUE=DATE:20190731
DTSTAMP:20260419T142520
CREATED:20190716T100758Z
LAST-MODIFIED:20190718T094725Z
UID:7608-1564531200-1564617599@www.deportedepolanco.org
SUMMARY:XX Concurso de Bolos San pedro Ad-Víncula
DESCRIPTION:
URL:http://www.deportedepolanco.org/event/xx-concurso-de-bolos-san-pedro-ad-vincula/
ATTACH;FMTTYPE=image/jpeg:http://www.deportedepolanco.org/wp-content/uploads/2019/07/CONCURSO-DE-BOLOS-San-Pedro-Ad-Vincula-Cabecera-2019.jpg
END:VEVENT
END:VCALENDAR