BEGIN:VCALENDAR
VERSION:2.0
PRODID:-//Deporte de Polanco - ECPv4.4.2//NONSGML v1.0//EN
CALSCALE:GREGORIAN
METHOD:PUBLISH
X-WR-CALNAME:Deporte de Polanco
X-ORIGINAL-URL:http://www.deportedepolanco.org
X-WR-CALDESC:Events for Deporte de Polanco
BEGIN:VEVENT
DTSTART;VALUE=DATE:20170703
DTEND;VALUE=DATE:20170721
DTSTAMP:20260424T104317
CREATED:20170614T121423Z
LAST-MODIFIED:20170721T074751Z
UID:3971-1499040000-1500681599@www.deportedepolanco.org
SUMMARY:III Campus de Fútbol del Polanco C.F.
DESCRIPTION:Dio comienzo el III Campus del Polanco C.F. con la participación de 102 alumnos\n\n\n\n\n\nLISTADOS POR AÑO DE NACIMIENTO DE LOS ADMITIDOS AL III CAMPUS DE FÚTBOL POLANCO C.F.\n\n\n\n\n2004\n\n\n2005\n\n\n2006\n\n\n\n\n2007\n\n\n2008\n\n\n2009\n\n\n\n\n2010\n\n\n2011\n\n\n2012\n\n\n\n\nPLANTILLA GLOBAL\n\n\n\n\n\n\n\n\n\n\nDATOS DE INTERÉS (PDF)\n\n\n \tEDAD: 5 años ( 2012) a 14 años (2003)\n \tPLAZAS: 90\n \tPRECIO:\n\n \t1 semana/ 50 €\n \t2 semanas/ 90 €\n \t3 semanas/ 130 €\n\n\n\n \n\n \tDESCUENTOS:\n\n \tPor 2º hermano/ 30 %\n \tPor 3º hermano/ 50 %\n\n\n\n \n\n \tPLAZOS DE INSCRIPCIÓN:\n\nHasta el 23 de junio para aquellos niños que participan en alguno de los equipos del Polanco C.F. o de la E.D.M. de Fútbol Sala. Se incluye a los hermanos de estos.\n\n\n \tSi hubiese plazas\, del 26 al 28 de junio para niños/as empadronados en el municipio de Polanco.\n \tGRUPOS POR EDADES\n \tSEGURO MÉDICO\n \tALMUERZO\n \tOTRAS ACTIVIDADES\n \tSE ENTREGARÁ UNA EQUIPACIÓN Y UN BALÓN A CADA ALUMNO.\n\nDATOS DEL INTERESADO:\n\n \tNombre y apellidos- Fecha de nacimiento- DNI-  Localidad- Tfno- email-Talla de equipación.\n\n\n\n\n\n\n 
URL:http://www.deportedepolanco.org/event/iii-campus-de-futbol-del-polanco-c-f/
ATTACH;FMTTYPE=image/png:http://www.deportedepolanco.org/wp-content/uploads/2017/06/CartelCampusPolancoCab.png
END:VEVENT
END:VCALENDAR