BEGIN:VCALENDAR
VERSION:2.0
PRODID:-//Deporte de Polanco - ECPv4.4.2//NONSGML v1.0//EN
CALSCALE:GREGORIAN
METHOD:PUBLISH
X-WR-CALNAME:Deporte de Polanco
X-ORIGINAL-URL:http://www.deportedepolanco.org
X-WR-CALDESC:Events for Deporte de Polanco
BEGIN:VEVENT
DTSTART;VALUE=DATE:20170702
DTEND;VALUE=DATE:20170702
DTSTAMP:20260424T092432
CREATED:20170519T142340Z
LAST-MODIFIED:20170703T061122Z
UID:3376-1498953600-1499039999@www.deportedepolanco.org
SUMMARY:II Marcha descubriendo Polanco
DESCRIPTION:RELACION DE INSCRITOS A LA II MARCHA DESCUBRIENDO POLANCO\nListados definitivos:\nRECORRIDO LARGO\nRECORRIDO CORTO\n \n\n\n\n\n\n\n\n\n\n\n\n \tEl reparto de dorsales y camisetas será el sábado en el pabellón polideportivo de Requejada en horario de 12 a 14 h y de 17 a 20 h.\n \tTambién se podrán hacer inscripciones presenciales el sábado en el mismo horario hasta completar dorsales (300).\n \tNo se harán inscripciones el domingo.\n\n\n\n\n\n\n \n\n\n\n\n\nDATOS A TENER EN CUENTA\n\n \tNo se permite la carrera.\n \tNo habrá clasificaciones.\n \tLa cuota de inscripción es de 5 €. Esta se abonará a la retirada del dorsal.\n \tEl plazo de inscripciones se cierra el miércoles 28 de junio o hasta completar los 300 dorsales.\n \tAquellas personas que se inscriban antes del 26 de junio a las 14:00 horas\, tienen garantizada la talla de la camiseta solicitada.\n \tEl martes 27 de junio\, informaremos a través de la página deportedepolanco de todo lo referente a la recogida de dorsales (lugar\, días y horarios).\n \tLa cuota de inscripción incluye seguro de accidentes y de responsabilidad civil.\n \tLa marcha dispone de servicio médico y de una ambulancia.\n \tEl cuerpo de voluntarios de Protección Civil de Polanco\, cubrirá varios puntos del recorrido.\n \tHabrá avituallamiento sólido y líquido a la mitad del recorrido aproximadamente.\n \tLa organización colocará a guías para ambos recorridos. Estos estarán claramente identificados y sus indicaciones deberán ser atendidas y respetadas.\n \tLa organización ofrecerá una parrillada a todos los participantes a la finalización de la marcha.\n\n\n\n\n\n\n\n\nRecorrido\nDesnivel\n\n\n\n\n\n\n\n\n\n\n\n\n\n\n\n\n
URL:http://www.deportedepolanco.org/event/ii-marcha-descubriendo-polanco/
ATTACH;FMTTYPE=image/png:http://www.deportedepolanco.org/wp-content/uploads/2017/05/Cartel_Marcha.png
END:VEVENT
END:VCALENDAR